BEGIN:VCALENDAR
VERSION:2.0
PRODID:-//https://londonderryfishandgameclub.com///NONSGML kigkonsult.se iCalcreator 2.10.15//
METHOD:PUBLISH
BEGIN:VEVENT
UID:20260421T202951UTC-97549vjGM3@https://londonderryfishandgameclub.com/
DTSTAMP:20260421T202951Z
DESCRIPTION:Volunteers needed for the annual kids Fishing Derby.  https://l
 ondonderryfishandgameclub.com/index.php/rsevents/event/6-kid-s-fishing-der
 by-volunteers
DTSTART:20250504T080000Z
DTEND:20250504T123000Z
LOCATION:Londonderry Fish & Game Club\, Inc. (5 Lund St\, Litchfield\, NH 0
 3052\, USA)
SUMMARY:Kid's Fishing Derby Volunteers
URL:https://londonderryfishandgameclub.com/index.php/rsevents/event/6-kid-s
 -fishing-derby-volunteers
END:VEVENT
END:VCALENDAR
