BEGIN:VCALENDAR
VERSION:2.0
PRODID:-//https://londonderryfishandgameclub.com///NONSGML kigkonsult.se iCalcreator 2.10.15//
METHOD:PUBLISH
BEGIN:VEVENT
UID:20260421T160321UTC-2618P7ak4j@https://londonderryfishandgameclub.com/
DTSTAMP:20260421T160321Z
DESCRIPTION: https://londonderryfishandgameclub.com/index.php/rsevents/even
 t/23-work-party-clearing-out-the-kitchen-saturday-march-28-2026-1-30-pm-at
 -the-clubhouse
DTSTART:20260328T133000Z
DTEND:20260328T153000Z
LOCATION:Londonderry Fish & Game Club Clubhouse (5 Lund St\, Litchfield\, N
 H 03052\, USA)
SUMMARY:WORK PARTY: CLEARING OUT THE KITCHEN: Saturday\, March 28\, 2026 1:
 30 PM at the Clubhouse.
URL:https://londonderryfishandgameclub.com/index.php/rsevents/event/23-work
 -party-clearing-out-the-kitchen-saturday-march-28-2026-1-30-pm-at-the-club
 house
END:VEVENT
END:VCALENDAR
