BEGIN:VCALENDAR
VERSION:2.0
PRODID:-//https://londonderryfishandgameclub.com///NONSGML kigkonsult.se iCalcreator 2.10.15//
METHOD:PUBLISH
BEGIN:VEVENT
UID:20260421T220826UTC-6254sS0GLv@https://londonderryfishandgameclub.com/
DTSTAMP:20260421T220826Z
DESCRIPTION:  https://londonderryfishandgameclub.com/index.php/rsevents/eve
 nt/10-range-safety-officers-for-machine-gun-shoot
DTSTART:20250711T000000Z
DTEND:20250718T144709Z
LOCATION:The Musquash Center at Londonderry Fish & Game Club (5 Lund St\, L
 itchfield\, NH 03052\, USA)
SUMMARY:RANGE SAFETY OFFICERS FOR MACHINE GUN SHOOT
URL:https://londonderryfishandgameclub.com/index.php/rsevents/event/10-rang
 e-safety-officers-for-machine-gun-shoot
END:VEVENT
END:VCALENDAR
