BEGIN:VCALENDAR
VERSION:2.0
PRODID:-//https://londonderryfishandgameclub.com///NONSGML kigkonsult.se iCalcreator 2.10.15//
METHOD:PUBLISH
BEGIN:VEVENT
UID:20260421T185211UTC-2581gu59eN@https://londonderryfishandgameclub.com/
DTSTAMP:20260421T185211Z
DESCRIPTION: https://londonderryfishandgameclub.com/index.php/component/rse
 ventspro/event/24-2026-lfgc-spring-clean-up?Itemid=555
DTSTART;VALUE=DATE:20260418
LOCATION:Londonderry Fish & Game Club  (5 Lund St\, Litchfield\, NH 03052\,
  USA)
SUMMARY:2026 LFGC Spring Clean-Up
URL:https://londonderryfishandgameclub.com/index.php/component/rseventspro/
 event/24-2026-lfgc-spring-clean-up?Itemid=555
END:VEVENT
END:VCALENDAR
